BEGIN:VCALENDAR
VERSION:2.0
PRODID:-//Library Market//iCal Export//EN
BEGIN:VEVENT
SUMMARY:Make Your Own Bird Feeder
UID:2043
DTSTAMP:20260423T203600Z
DTSTART:20260512T220000Z
DTEND:20260512T230000Z
LOCATION:801 N Broadway, Melrose Park, IL 60160, United States
ROOM: Program Room
DESCRIPTION:Join us at the library for a fun, hands-on craft event where k
 ids can build and mix their very own bird feeder!
URL:https://melrosepark.librarycalendar.com/event/make-your-own-bird-feede
 r-2043
END:VEVENT
END:VCALENDAR
